BEGIN:VCALENDAR
VERSION:2.0
PRODID:-//EJW Neuenbürg - Test - ECPv5.9.1//NONSGML v1.0//EN
CALSCALE:GREGORIAN
METHOD:PUBLISH
X-WR-CALNAME:EJW Neuenbürg - Test
X-ORIGINAL-URL:https://wp-test.ejw-neuenbuerg.de
X-WR-CALDESC:Veranstaltungen für EJW Neuenbürg - Test
BEGIN:VTIMEZONE
TZID:Europe/Berlin
BEGIN:DAYLIGHT
TZOFFSETFROM:+0100
TZOFFSETTO:+0200
TZNAME:CEST
DTSTART:20210328T010000
END:DAYLIGHT
BEGIN:STANDARD
TZOFFSETFROM:+0200
TZOFFSETTO:+0100
TZNAME:CET
DTSTART:20211031T010000
END:STANDARD
END:VTIMEZONE
BEGIN:VEVENT
DTSTART;TZID=Europe/Berlin:20210904T000000
DTEND;TZID=Europe/Berlin:20210911T235959
DTSTAMP:20260419T193545
CREATED:20201108T182211Z
LAST-MODIFIED:20210615T111534Z
UID:539-1630713600-1631404799@wp-test.ejw-neuenbuerg.de
SUMMARY:Sommerfreizeit für Junge Erwachsene
DESCRIPTION:Für jeden was dabei!Eine Woche mit Aktion\, Natur\, Zeit zum Relaxen und in Gemeinschaft\, wäre das passend für dich? Dann komm mit zur Jungen Erwachsenen Freizeit im Sommer! \n\n\n\nWir werden den Frankenwald und seine unzähligen Möglichkeiten erkunden: Höhlen\, Schluchten\, Thermalbäder\, naturbelassene Seen – da ist sowohl für Sportbegeisterte wie auch Tiefenentspannte was dabei! Freuen darfst du dich auch auf unsere Tagesausflüge die dich u.a. in eine der nahegelegenen Städte wie Nürnberg oder Leipzig führen. Diese Freizeit will dir neben Aktion und Ausflügen auch die Möglichkeit geben\, deinen Tag nach deinen Bedürfnissen auszurichten und viel freie Zeit für dich und andere zu haben. \n\n\n\nUnser Haus liegt am idyllischen Waldrand und lädt uns zum Genießen & Entspannen ein. Hier wollen wir einander und Gott begegnen. Das CVJM Haus Bobengrün ist im Landhausstil 1986 erbaut\, mit Kachelofenstube und Kaminzimmer\, großem Dachboden mit Tischtennis und Billard sowie Jugendraum. Schlafen werden wir in 2-4 Bettzimmern. Gerne dürft ihr euch hier über das Haus und die Umgebung informieren! \n\n\n\nDie An- und Abreise wird selbstständig organisiert.Gerne unterstützen wir euch beim Bilden von Fahrgemeinschaften.Bei Fragen komme gerne auf uns zu. \n\n\n\n\n\n\nAnmeldeformualr
URL:https://wp-test.ejw-neuenbuerg.de/kalender/sommerfreizeit-fuer-junge-erwachsene/
LOCATION:Freizeitheim Bobengrün\, Mühlbergweg 13\, 95138 Bad Steben\, Deutschland
CATEGORIES:EJW,Freizeiten
ATTACH;FMTTYPE=image/jpeg:https://wp-test.ejw-neuenbuerg.de/wp-content/uploads/2020/11/kronach-5243020_1920.jpg
ORGANIZER;CN="EJW%20Neuenb%C3%BCrg%20-%20Lea%20Wiesener":MAILTO:lea.wiesener@ejw-neuenbuerg.de
END:VEVENT
END:VCALENDAR