BEGIN:VCALENDAR
VERSION:2.0
PRODID:-//EJW Neuenbürg - Test - ECPv5.9.1//NONSGML v1.0//EN
CALSCALE:GREGORIAN
METHOD:PUBLISH
X-WR-CALNAME:EJW Neuenbürg - Test
X-ORIGINAL-URL:https://wp-test.ejw-neuenbuerg.de
X-WR-CALDESC:Veranstaltungen für EJW Neuenbürg - Test
BEGIN:VTIMEZONE
TZID:Europe/Berlin
BEGIN:DAYLIGHT
TZOFFSETFROM:+0100
TZOFFSETTO:+0200
TZNAME:CEST
DTSTART:20210328T010000
END:DAYLIGHT
BEGIN:STANDARD
TZOFFSETFROM:+0200
TZOFFSETTO:+0100
TZNAME:CET
DTSTART:20211031T010000
END:STANDARD
END:VTIMEZONE
BEGIN:VEVENT
DTSTART;TZID=Europe/Berlin:20210505T190000
DTEND;TZID=Europe/Berlin:20210505T220000
DTSTAMP:20260425T135611
CREATED:20210205T095419Z
LAST-MODIFIED:20210205T095422Z
UID:1461-1620241200-1620252000@wp-test.ejw-neuenbuerg.de
SUMMARY:Per Du
DESCRIPTION:Per Du – das sind fünf Abende für Junge Erwachsene im Jahr 2021.  \n\n\n\nJeder Abend hat ein eigenes Thema und führt dich zu spannenden Begegnungen. \n\n\n\nGastgeber ist das EJW Neuenbürg in Kooperation mit der Ev. Erwachsenenbildung Nordschwarzwald.
URL:https://wp-test.ejw-neuenbuerg.de/kalender/per-du-2/
CATEGORIES:Per Du
ATTACH;FMTTYPE=image/jpeg:https://wp-test.ejw-neuenbuerg.de/wp-content/uploads/2020/11/2021-Uebersicht.jpg
ORGANIZER;CN="EJW%20Neuenb%C3%BCrg%20-%20Lea%20Wiesener":MAILTO:lea.wiesener@ejw-neuenbuerg.de
END:VEVENT
BEGIN:VEVENT
DTSTART;TZID=Europe/Berlin:20210511T190000
DTEND;TZID=Europe/Berlin:20210511T220000
DTSTAMP:20260425T135611
CREATED:20210204T191108Z
LAST-MODIFIED:20210204T191130Z
UID:1405-1620759600-1620770400@wp-test.ejw-neuenbuerg.de
SUMMARY:WSWB
DESCRIPTION:WSWB bedeutet „Wir Sind Was B’sonders“ und steht für das Gemeinschaftstreffen der jungen Erwachsenen und des BAK’s im Bezirk Neuenbürg! \n\n\n\nWir freuen uns darauf\, dich kennen zu lernen!
URL:https://wp-test.ejw-neuenbuerg.de/kalender/wswb/
CATEGORIES:Jugendevent-WSWB
ATTACH;FMTTYPE=image/jpeg:https://wp-test.ejw-neuenbuerg.de/wp-content/uploads/2020/11/Uebersicht-2021.jpg
ORGANIZER;CN="EJW%20Neuenb%C3%BCrg%20-%20Lea%20Wiesener":MAILTO:lea.wiesener@ejw-neuenbuerg.de
END:VEVENT
BEGIN:VEVENT
DTSTART;TZID=Europe/Berlin:20210514T000000
DTEND;TZID=Europe/Berlin:20210516T235959
DTSTAMP:20260425T135611
CREATED:20210215T105913Z
LAST-MODIFIED:20210422T173546Z
UID:1508-1620950400-1621209599@wp-test.ejw-neuenbuerg.de
SUMMARY:Wochenend-Zeltlager - leider abgesagt -
DESCRIPTION:Ein Wochenende voller Spaß \n\n\n\nEndlich Wochenende\, keine Schule\, keine Hausaufgaben und das erste Zeltlager steht vor der Tür.Dich erwartet ein geniales Wochenende mit viel Spaß und Action. Lagerfeuer\, Geländespiele\, eine super Gemeinschaft und spannende Geschichten von Gott werden dich das Wochenende über begleiten.Wenn du schon immer einmal Lust auf ein Zeltlager hattest\, aber dir eine Woche zu lang ist\, ist das genau das Richtige für dich. Das Wochenendzeltlager enthält alles\, was es für ein richtiges Zeltlager braucht\, nur eben als Mini-Version. Kurzum\, es wird eine geniale Zeit\, die du dir nicht entgehen lassen solltest.Ohne Eltern einfach mal Urlaub im schönen Sprollenhaus machen\, im Bach spielen\, über den Zeltplatz rennen\, Fußball spielen\, singen und viel lachen. Darauf freuen wir uns und hoffentlich bist du mit dabei\, um diese Zeit noch genialer zu machen! Erzähl es deinen Freunden und melde dich schnellstmöglich an. \n\n\n\nFür Jungen und Mädchen von 8 – 13 JahrenOrt: Sprollenhaus \n\n\n\nPreis: 42€Leistungen: Übernachtung im Zelt\, Vollverpflegung\, ProgrammLeitung: Silas Kilian\, Elias Heidt \n\n\n\n\nAnmeldeformular
URL:https://wp-test.ejw-neuenbuerg.de/kalender/wochenend-zeltlager/
LOCATION:Freizeitheim Sprollenhaus\, Kaltenbronner Str. 99\, Bad Wildbad\, Sprollenhaus\, Deutschland
CATEGORIES:Freizeiten
ORGANIZER;CN="EJW%20-%20Neuenb%C3%BCrg%20Elias%20Heidt":MAILTO:info@ejw-neuenbuerg.de
END:VEVENT
BEGIN:VEVENT
DTSTART;TZID=Europe/Berlin:20210531T000000
DTEND;TZID=Europe/Berlin:20210604T235959
DTSTAMP:20260425T135611
CREATED:20201109T180610Z
LAST-MODIFIED:20201109T195335Z
UID:597-1622419200-1622851199@wp-test.ejw-neuenbuerg.de
SUMMARY:KiFeWo Kinderferienwoche
DESCRIPTION:EJW und Kirchenbezirk vereint!Eine unvergessliche Woche – nur für dich! \n\n\n\nDie KiFeWo ist neu im Programm und basiert auf unserer Sommeralternativwoche in den letzten Sommerferien.Kleingruppen von bis zu 20 Kindern\, werden vor Ort in einzelnen Kirchengemeinden von ehrenamtlichen Mitarbeitenden berteut und dabei untereinander digital vernetzt. So erleben die Kinder an allen Orten das selbe Programm und treten in unterschiedlichen Aufgaben gegeneinander an. Zudem werden sie von der ejw-Geschäftstelle durch lustige und spannende Videobotschaften unterstützt. \n\n\n\nDas Ganze findet immer Vormittags zwischen 8.30-12.30 Uhr statt. Wir singen gemeinsam Lieder\, hören eine spannende biblische Geschichte und spielen abgefahrene Spiele.Das darfst du nicht verpassen! \n\n\n\nAn welchen Orten im Bezirk die Woche überall stattfinden wird\, ist derzeit noch nicht festgelegt.Wenn du Lust hast\, eine Woche lang immer vormittags ein tolles und unvergessliches Programm zu erleben\, oder wenn ihr als Kirchengemeinde bei diesem Programm mit einsteigen wollt\, melde dich einfach bei Elias Heidt im ejw. \n\n\n\nFür Mädchen und Jungs der Klasse 1-7Ort: In deiner Kirchengemeinden vor OrtTermin: Pfingstferienwoche 31. Mai – 04. Juni 2020Preis: 30\,- € / 25\,- € für GeschwisterkinderLeistung: Vormittagsbetreuung 8.30 – 12.30 Uhr\, Programm\, GetränkeLeitung: Elias Heidt in Kooperation mit: ehrenamtlichen Mitarbeitenden der Kirchengemeinden vor Ort
URL:https://wp-test.ejw-neuenbuerg.de/kalender/kifewo-kinderferienwoche/
CATEGORIES:Freizeiten
ATTACH;FMTTYPE=image/jpeg:https://wp-test.ejw-neuenbuerg.de/wp-content/uploads/2020/11/3-edited.jpg
ORGANIZER;CN="EJW%20-%20Neuenb%C3%BCrg%20Elias%20Heidt":MAILTO:info@ejw-neuenbuerg.de
END:VEVENT
END:VCALENDAR