BEGIN:VCALENDAR
VERSION:2.0
PRODID:-//EJW Neuenbürg - Test - ECPv5.9.1//NONSGML v1.0//EN
CALSCALE:GREGORIAN
METHOD:PUBLISH
X-WR-CALNAME:EJW Neuenbürg - Test
X-ORIGINAL-URL:https://wp-test.ejw-neuenbuerg.de
X-WR-CALDESC:Veranstaltungen für EJW Neuenbürg - Test
BEGIN:VTIMEZONE
TZID:Europe/Berlin
BEGIN:DAYLIGHT
TZOFFSETFROM:+0100
TZOFFSETTO:+0200
TZNAME:CEST
DTSTART:20210328T010000
END:DAYLIGHT
BEGIN:STANDARD
TZOFFSETFROM:+0200
TZOFFSETTO:+0100
TZNAME:CET
DTSTART:20211031T010000
END:STANDARD
END:VTIMEZONE
BEGIN:VEVENT
DTSTART;TZID=Europe/Berlin:20210829T000000
DTEND;TZID=Europe/Berlin:20210904T235959
DTSTAMP:20260419T235953
CREATED:20201109T185013Z
LAST-MODIFIED:20210215T111418Z
UID:617-1630195200-1630799999@wp-test.ejw-neuenbuerg.de
SUMMARY:Ferienspaß in Sprollenhaus
DESCRIPTION:Darauf kannst du dich freuen:Du hast Lust auf Natur pur\, aber übernachtest lieber im Haus: Dann bist du bei uns genau richtig.Wir werden tolle Tage in der wildromantischen Natur des Kegelbachtals rund um ein biblisches Thema erleben. Spiel\, Spaß\, Basteln\, Lieder\, Lagerfeuer und biblische Geschichten\, sowie eine tolle Gemeinschaft dürfen dabei natürlich nicht fehlen. \n\n\n\nDiese Freizeit wird im Freizeitheim in Sprollenhaus stattfinden. Hier sind wir mitten in der Natur und umgeben von tollen Attraktionen. \n\n\n\nHaben wir dich neugierig gemacht?Dann schnell anmelden\, wir freuen uns auf Dich.Die Freizeit beginnt am Samstagnachmittag und endet am Freitagnachmittag.Die An- und Abreise organisiert jeder selbst. \n\n\n\nFür Jungen und Mädchen von 7 – 12 JahrenOrt: Freizeitheim SprollenhausPreis: 180\,- € bis 29. Februar 2021 / 199\,- € ab 1. März 2021Leistungen: Übernachtung im Haus\, Vollverpflegung\, Programm inkl. TagesausflugLeitung: Rahel Wieland und Dieter Dörr \n\n\n\n\nAnmeldeformular
URL:https://wp-test.ejw-neuenbuerg.de/kalender/ferienspass-in-sprollenhaus/
LOCATION:Freizeitheim Sprollenhaus\, Kaltenbronner Str. 99\, Bad Wildbad\, Sprollenhaus\, Deutschland
CATEGORIES:EJW,Freizeiten
ATTACH;FMTTYPE=image/jpeg:https://wp-test.ejw-neuenbuerg.de/wp-content/uploads/2020/11/Ferienspass2-scaled.jpg
ORGANIZER;CN="EJW%20Neuenb%C3%BCrg":MAILTO:info@ejw-neuenbuerg.de
END:VEVENT
END:VCALENDAR